BEGIN:VCALENDAR
VERSION:2.0
PRODID:-//ActiveBury//Events//EN
CALSCALE:GREGORIAN
BEGIN:VEVENT
UID:event-4559@activebury.com
DTSTAMP:20260424T224225Z
SUMMARY:Bouncing Babies (0-23 mo)
DTSTART:20260516T091500
DTEND:20260516T100000
LOCATION:Kent Island Meeting Room 128
DESCRIPTION:Ages: 0-23 mo\, with caregiver. Join us for a story time with rhymes\, songs\, bounces\, and a story followed by a social playtime. Siblings are welcome at any story time.\nMore info: https://calendar.qaclibrary.org/event/16227076?hs=a\nActiveBury: https://www.activebury.com/events/4559
URL:https://www.activebury.com/events/4559
END:VEVENT
END:VCALENDAR
