BEGIN:VCALENDAR
VERSION:2.0
PRODID:-//ActiveBury//Events//EN
CALSCALE:GREGORIAN
BEGIN:VEVENT
UID:event-4558@activebury.com
DTSTAMP:20260424T224348Z
SUMMARY:Mobile Library: Discover Birds of Prey at CBEC! (All Ages)
DTSTART:20260515T153000
DTEND:20260515T180000
DESCRIPTION:Explore the wild side of the Chesapeake Bay with the Mobile Library at the Chesapeake Bay Environmental Center! Get up close with incredible birds of prey and learn why raptors...\nMore info: https://calendar.qaclibrary.org/event/16243512?hs=a\nActiveBury: https://www.activebury.com/events/4558
URL:https://www.activebury.com/events/4558
END:VEVENT
END:VCALENDAR
