BEGIN:VCALENDAR
VERSION:2.0
PRODID:-//ActiveBury//Events//EN
CALSCALE:GREGORIAN
BEGIN:VEVENT
UID:event-4557@activebury.com
DTSTAMP:20260424T224334Z
SUMMARY:Senbazuru Paper Origami Cranes
DTSTART:20260515T100000
DTEND:20260515T113000
LOCATION:Centreville Meeting Room
DESCRIPTION:Senbazuru are a Japanese origami craft where multiple paper cranes are strung together to create beautiful arrangements. Celebrate Asian American and Pacific Islander Heritage...\nMore info: https://calendar.qaclibrary.org/event/16201077?hs=a\nActiveBury: https://www.activebury.com/events/4557
URL:https://www.activebury.com/events/4557
END:VEVENT
END:VCALENDAR
