BEGIN:VCALENDAR
VERSION:2.0
PRODID:-//ActiveBury//Events//EN
CALSCALE:GREGORIAN
BEGIN:VEVENT
UID:event-4556@activebury.com
DTSTAMP:20260424T224328Z
SUMMARY:P.J. Story Time (1-6 yrs)
DTSTART:20260514T183000
DTEND:20260514T191500
LOCATION:Centreville Children's Room
DESCRIPTION:Ages: 1-6 Read\, sing\, and play at the library during P.J. story time while developing early literacy skills. Story time is followed by a craft.\nMore info: https://calendar.qaclibrary.org/event/16229096?hs=a\nActiveBury: https://www.activebury.com/events/4556
URL:https://www.activebury.com/events/4556
END:VEVENT
END:VCALENDAR
