BEGIN:VCALENDAR
VERSION:2.0
PRODID:-//ActiveBury//Events//EN
CALSCALE:GREGORIAN
BEGIN:VEVENT
UID:event-4555@activebury.com
DTSTAMP:20260424T224339Z
SUMMARY:Dungeons and Dragons (11-17 yrs)
DTSTART:20260514T153000
DTEND:20260514T173000
LOCATION:Kent Island Meeting Room 128
DESCRIPTION:Ages 11-17 The core of D&D is storytelling. You and your friends tell a story together\, guiding your heroes through quests for treasure\, battles with deadly foes\, daring rescues\,...\nMore info: https://calendar.qaclibrary.org/event/16202578?hs=a\nActiveBury: https://www.activebury.com/events/4555
URL:https://www.activebury.com/events/4555
END:VEVENT
END:VCALENDAR
