BEGIN:VCALENDAR
VERSION:2.0
PRODID:-//ActiveBury//Events//EN
CALSCALE:GREGORIAN
BEGIN:VEVENT
UID:event-4554@activebury.com
DTSTAMP:20260424T225205Z
SUMMARY:Good Vibes Book Discussion Group at A Little Lovely Coffee House
DTSTART:20260514T120000
DTEND:20260514T130000
DESCRIPTION:Drop by A Little Lovely Coffee House (located in Queenstown Outlets) anytime between 12-1 to discuss our monthly uplifting book selection. Copies of the monthly book will be...\nMore info: https://calendar.qaclibrary.org/event/16198827?hs=a\nActiveBury: https://www.activebury.com/events/4554
URL:https://www.activebury.com/events/4554
END:VEVENT
END:VCALENDAR
