BEGIN:VCALENDAR
VERSION:2.0
PRODID:-//ActiveBury//Events//EN
CALSCALE:GREGORIAN
BEGIN:VEVENT
UID:event-4553@activebury.com
DTSTAMP:20260424T224156Z
SUMMARY:Veterans Book Group
DTSTART:20260512T183000
DTEND:20260512T194500
LOCATION:Centreville Meeting Room
DESCRIPTION:This group aims to bring veterans of all eras together to talk about military experiences and returning to civilian life while providing an informal\, supportive environment for...\nMore info: https://calendar.qaclibrary.org/event/16094115?hs=a\nActiveBury: https://www.activebury.com/events/4553
URL:https://www.activebury.com/events/4553
END:VEVENT
END:VCALENDAR
