BEGIN:VCALENDAR
VERSION:2.0
PRODID:-//ActiveBury//Events//EN
CALSCALE:GREGORIAN
BEGIN:VEVENT
UID:event-4552@activebury.com
DTSTAMP:20260424T224149Z
SUMMARY:Paint Party with Chesapeake Creative Wellness
DTSTART:20260512T180000
DTEND:20260512T200000
LOCATION:Kent Island Meeting Room 133 Existing Space
DESCRIPTION:Join Chesapeake Creative Wellness for a relaxed paint party in honor of Mental Health Awareness Month. Using a peaceful jellyfish theme\, this guided art experience highlights how...\nMore info: https://calendar.qaclibrary.org/event/16167444?hs=a\nActiveBury: https://www.activebury.com/events/4552
URL:https://www.activebury.com/events/4552
END:VEVENT
END:VCALENDAR
