BEGIN:VCALENDAR
VERSION:2.0
PRODID:-//ActiveBury//Events//EN
CALSCALE:GREGORIAN
BEGIN:VEVENT
UID:event-4551@activebury.com
DTSTAMP:20260424T224349Z
SUMMARY:Chess Club (8-13 yrs)
DTSTART:20260512T170000
DTEND:20260512T180000
LOCATION:Kent Island Meeting Room 128
DESCRIPTION:Ages 8-13 Join our library's Chess Club! Sharpen your strategic skills and make new friends with local player\, Gavin Taylor. Whether you're a complete beginner or seasoned player\,...\nMore info: https://calendar.qaclibrary.org/event/16139906?hs=a\nActiveBury: https://www.activebury.com/events/4551
URL:https://www.activebury.com/events/4551
END:VEVENT
END:VCALENDAR
