BEGIN:VCALENDAR
VERSION:2.0
PRODID:-//ActiveBury//Events//EN
CALSCALE:GREGORIAN
BEGIN:VEVENT
UID:event-4549@activebury.com
DTSTAMP:20260424T224059Z
SUMMARY:Block Exploration (1-5 yrs)
DTSTART:20260512T103000
DTEND:20260512T111500
LOCATION:Centreville Meeting Room
DESCRIPTION:Ages: 1-5 with caregiver Explore different types of blocks and building materials! We will have a variety of Duplo\, soft blocks\, and magnetic tiles for you and your child to...\nMore info: https://calendar.qaclibrary.org/event/16249398?hs=a\nActiveBury: https://www.activebury.com/events/4549
URL:https://www.activebury.com/events/4549
END:VEVENT
END:VCALENDAR
