BEGIN:VCALENDAR
VERSION:2.0
PRODID:-//ActiveBury//Events//EN
CALSCALE:GREGORIAN
BEGIN:VEVENT
UID:event-4548@activebury.com
DTSTAMP:20260424T224836Z
SUMMARY:Homeschool Science: Seed Planting (5-12 yrs)
DTSTART:20260511T110000
DTEND:20260511T114500
LOCATION:Centreville Meeting Room
DESCRIPTION:Ages: 5-12 Join us as we explore what seeds need to grow and thrive in our gardens. Seed starting is a fun and hands-on way to introduce kids to how plants grow while building...\nMore info: https://calendar.qaclibrary.org/event/16255648?hs=a\nActiveBury: https://www.activebury.com/events/4548
URL:https://www.activebury.com/events/4548
END:VEVENT
END:VCALENDAR
