BEGIN:VCALENDAR
VERSION:2.0
PRODID:-//ActiveBury//Events//EN
CALSCALE:GREGORIAN
BEGIN:VEVENT
UID:event-4547@activebury.com
DTSTAMP:20260424T224206Z
SUMMARY:Family Time: Books and a Craft (3-8 yrs)
DTSTART:20260509T103000
DTEND:20260509T113000
LOCATION:Kent Island Meeting Room 128
DESCRIPTION:Join us for a morning of reading\, creativity\, and family fun! The Kent Island High School Teacher Academy welcomes children and their families for shared stories and a take-home...\nMore info: https://calendar.qaclibrary.org/event/16263180?hs=a\nActiveBury: https://www.activebury.com/events/4547
URL:https://www.activebury.com/events/4547
END:VEVENT
END:VCALENDAR
