BEGIN:VCALENDAR
VERSION:2.0
PRODID:-//ActiveBury//Events//EN
CALSCALE:GREGORIAN
BEGIN:VEVENT
UID:event-4546@activebury.com
DTSTAMP:20260424T224205Z
SUMMARY:Paint Party with Chesapeake Creative Wellness
DTSTART:20260509T100000
DTEND:20260509T120000
LOCATION:Centreville Meeting Room
DESCRIPTION:Join Chesapeake Creative Wellness for a relaxed paint party in honor of Mental Health Awareness Month. Using a peaceful jellyfish theme\, this guided art experience highlights how...\nMore info: https://calendar.qaclibrary.org/event/16256997?hs=a\nActiveBury: https://www.activebury.com/events/4546
URL:https://www.activebury.com/events/4546
END:VEVENT
END:VCALENDAR
