BEGIN:VCALENDAR
VERSION:2.0
PRODID:-//ActiveBury//Events//EN
CALSCALE:GREGORIAN
BEGIN:VEVENT
UID:event-4545@activebury.com
DTSTAMP:20260424T224157Z
SUMMARY:Ask a Master Gardener Plant Clinic: Container Gardening
DTSTART:20260509T100000
DTEND:20260509T120000
LOCATION:Centreville Children's Room
DESCRIPTION:Stop by the library with all your questions about gardening\, garden pests\, plant problems\, and insects as the Master Gardeners kick off the Year of "Container Gardening." Container...\nMore info: https://calendar.qaclibrary.org/event/16256688?hs=a\nActiveBury: https://www.activebury.com/events/4545
URL:https://www.activebury.com/events/4545
END:VEVENT
END:VCALENDAR
