BEGIN:VCALENDAR
VERSION:2.0
PRODID:-//ActiveBury//Events//EN
CALSCALE:GREGORIAN
BEGIN:VEVENT
UID:event-4544@activebury.com
DTSTAMP:20260424T224151Z
SUMMARY:Pottery Class: Appetizer Trays (flex start time) (11-17 yrs)
DTSTART:20260508T150000
DTEND:20260508T163000
LOCATION:Kent Island Meeting Room 133 Existing Space
DESCRIPTION:Ages: 11-17 years. Have you ever wanted to try ceramic hand-building? Join us for a class to create appetizer trays with a built-in dipping compartment. Great for chips and dip\,...\nMore info: https://calendar.qaclibrary.org/event/16160706?hs=a\nActiveBury: https://www.activebury.com/events/4544
URL:https://www.activebury.com/events/4544
END:VEVENT
END:VCALENDAR
