BEGIN:VCALENDAR
VERSION:2.0
PRODID:-//ActiveBury//Events//EN
CALSCALE:GREGORIAN
BEGIN:VEVENT
UID:event-4543@activebury.com
DTSTAMP:20260424T224327Z
SUMMARY:Family Law Clinic
DTSTART:20260507T170000
DTEND:20260507T190000
LOCATION:Centreville Conference Room
DESCRIPTION:No appointment necessary. A lawyer will be available in the Library to the public for a free limited legal advice consultation on how to represent yourself and complete forms for...\nMore info: https://calendar.qaclibrary.org/event/15367076?hs=a\nActiveBury: https://www.activebury.com/events/4543
URL:https://www.activebury.com/events/4543
END:VEVENT
END:VCALENDAR
