BEGIN:VCALENDAR
VERSION:2.0
PRODID:-//ActiveBury//Events//EN
CALSCALE:GREGORIAN
BEGIN:VEVENT
UID:event-4541@activebury.com
DTSTAMP:20260424T224150Z
SUMMARY:Social Services at the Library
DTSTART:20260506T130000
DTEND:20260506T163000
LOCATION:Centreville Conference Room
DESCRIPTION:Come in anytime between 1pm and 4:30pm to meet with a member of the Queen Anne's County Department of Social Services Family Investment Services team. Learn how to access resources...\nMore info: https://calendar.qaclibrary.org/event/15366875?hs=a\nActiveBury: https://www.activebury.com/events/4541
URL:https://www.activebury.com/events/4541
END:VEVENT
END:VCALENDAR
