BEGIN:VCALENDAR
VERSION:2.0
PRODID:-//ActiveBury//Events//EN
CALSCALE:GREGORIAN
BEGIN:VEVENT
UID:event-4540@activebury.com
DTSTAMP:20260424T224205Z
SUMMARY:Parachute Play (2-5 yrs)
DTSTART:20260506T103000
DTEND:20260506T110000
LOCATION:Centreville Meeting Room
DESCRIPTION:Ages: 2-5 years with caregiver Experience the fun of Parachute Play at the library! Kids aged 2 to 5 can let their imaginations soar and build teamwork skills while enjoying this...\nMore info: https://calendar.qaclibrary.org/event/16249390?hs=a\nActiveBury: https://www.activebury.com/events/4540
URL:https://www.activebury.com/events/4540
END:VEVENT
END:VCALENDAR
