BEGIN:VCALENDAR
VERSION:2.0
PRODID:-//ActiveBury//Events//EN
CALSCALE:GREGORIAN
BEGIN:VEVENT
UID:event-4538@activebury.com
DTSTAMP:20260424T224328Z
SUMMARY:Chess Club (8-13 yrs)
DTSTART:20260505T170000
DTEND:20260505T180000
LOCATION:Centreville Meeting Room
DESCRIPTION:Ages 8-13 Join our library's Chess Club! Sharpen your strategic skills and make new friends. Whether you're a complete beginner or seasoned player\, come discover the fun with...\nMore info: https://calendar.qaclibrary.org/event/16032840?hs=a\nActiveBury: https://www.activebury.com/events/4538
URL:https://www.activebury.com/events/4538
END:VEVENT
END:VCALENDAR
