BEGIN:VCALENDAR
VERSION:2.0
PRODID:-//ActiveBury//Events//EN
CALSCALE:GREGORIAN
BEGIN:VEVENT
UID:event-4537@activebury.com
DTSTAMP:20260424T224227Z
SUMMARY:Mental Health Story Time (3-8 years)
DTSTART:20260505T103000
DTEND:20260505T111500
LOCATION:Kent Island Meeting Room 128
DESCRIPTION:Ages: 3-8 years May is Mental Health Awareness month. This storytime will bring children and caregivers together for stories and activities focused on Social-Emotional...\nMore info: https://calendar.qaclibrary.org/event/16248894?hs=a\nActiveBury: https://www.activebury.com/events/4537
URL:https://www.activebury.com/events/4537
END:VEVENT
END:VCALENDAR
