BEGIN:VCALENDAR
VERSION:2.0
PRODID:-//ActiveBury//Events//EN
CALSCALE:GREGORIAN
BEGIN:VEVENT
UID:event-4536@activebury.com
DTSTAMP:20260424T224226Z
SUMMARY:Sewing Machine Open Studio
DTSTART:20260504T140000
DTEND:20260504T150000
LOCATION:Kent Island Classroom
DESCRIPTION:Use our sewing machines to start a new project or finish an old one. Assistance provided.\nMore info: https://calendar.qaclibrary.org/event/16062196?hs=a\nActiveBury: https://www.activebury.com/events/4536
URL:https://www.activebury.com/events/4536
END:VEVENT
END:VCALENDAR
