BEGIN:VCALENDAR
VERSION:2.0
PRODID:-//ActiveBury//Events//EN
CALSCALE:GREGORIAN
BEGIN:VEVENT
UID:event-4535@activebury.com
DTSTAMP:20260424T224155Z
SUMMARY:Priya Dreams of Marigolds & Masala: Read Aloud & Craft (4yrs-Adult)
DTSTART:20260502T103000
DTEND:20260502T113000
LOCATION:Kent Island Meeting Room 128
DESCRIPTION:For ages 4+\, teens and adults are welcome! Celebrate Asian American and Pacific Islander Heritage Month with a special read aloud of Priya Dreams of Marigolds & Masala\, led by Dr....\nMore info: https://calendar.qaclibrary.org/event/16252469?hs=a\nActiveBury: https://www.activebury.com/events/4535
URL:https://www.activebury.com/events/4535
END:VEVENT
END:VCALENDAR
