BEGIN:VCALENDAR
VERSION:2.0
PRODID:-//ActiveBury//Events//EN
CALSCALE:GREGORIAN
BEGIN:VEVENT
UID:event-4534@activebury.com
DTSTAMP:20260424T224227Z
SUMMARY:Story Time (2-5 years)
DTSTART:20260502T091500
DTEND:20260502T100000
LOCATION:Kent Island Meeting Room 128
DESCRIPTION:Ages: 2-5 with caregiver Join us for Story Time! Read\, sing\, and play at the library during story time while developing early literacy skills\, followed by an early literacy...\nMore info: https://calendar.qaclibrary.org/event/16227081?hs=a\nActiveBury: https://www.activebury.com/events/4534
URL:https://www.activebury.com/events/4534
END:VEVENT
END:VCALENDAR
