BEGIN:VCALENDAR
VERSION:2.0
PRODID:-//ActiveBury//Events//EN
CALSCALE:GREGORIAN
BEGIN:VEVENT
UID:event-4533@activebury.com
DTSTAMP:20260424T224149Z
SUMMARY:Library Opens at 10 am
DTSTART;VALUE=DATE:20260501
DTEND;VALUE=DATE:20260502
DESCRIPTION:The Library will be opening at 10 am for our monthly staff meeting.\nMore info: https://calendar.qaclibrary.org/event/15784024?hs=a\nActiveBury: https://www.activebury.com/events/4533
URL:https://www.activebury.com/events/4533
END:VEVENT
END:VCALENDAR
