BEGIN:VCALENDAR
VERSION:2.0
PRODID:-//ActiveBury//Events//EN
CALSCALE:GREGORIAN
BEGIN:VEVENT
UID:event-4532@activebury.com
DTSTAMP:20260424T224207Z
SUMMARY:Show All
DTSTART:20260424T103000
DTEND:20260424T111500
DESCRIPTION:More info: https://calendar.qaclibrary.org/calendar?cid=13052\nActiveBury: https://www.activebury.com/events/4532
URL:https://www.activebury.com/events/4532
END:VEVENT
END:VCALENDAR
