BEGIN:VCALENDAR
VERSION:2.0
PRODID:-//ActiveBury//Events//EN
CALSCALE:GREGORIAN
BEGIN:VEVENT
UID:event-4531@activebury.com
DTSTAMP:20260424T224338Z
SUMMARY:Rosenfeld's Family Holocaust Journey (13yrs - Adult)
DTSTART:20260430T100000
DTEND:20260430T110000
LOCATION:Centreville Meeting Room
DESCRIPTION:Warren Rosenfeld\, the son and grandson of Holocaust survivors will present his family's personal Holocaust journey. This journey includes those relatives who escaped at various...\nMore info: https://calendar.qaclibrary.org/event/16226471?hs=a\nActiveBury: https://www.activebury.com/events/4531
URL:https://www.activebury.com/events/4531
END:VEVENT
END:VCALENDAR
