BEGIN:VCALENDAR
VERSION:2.0
PRODID:-//ActiveBury//Events//EN
CALSCALE:GREGORIAN
BEGIN:VEVENT
UID:event-4530@activebury.com
DTSTAMP:20260424T224100Z
SUMMARY:Teens Create: 3-D Pen Art (11-17 yrs)
DTSTART:20260429T144500
DTEND:20260429T153000
LOCATION:Kent Island Meeting Room 133 Existing Space
DESCRIPTION:Ages 11-17 Join us weekly in April in the Teen Room for art and activities afterschool. Apr. 1 - Kumihimo Braided Cord Friendship Bracelets - using the provided loom\, learn a...\nMore info: https://calendar.qaclibrary.org/event/16160916?hs=a\nActiveBury: https://www.activebury.com/events/4530
URL:https://www.activebury.com/events/4530
END:VEVENT
END:VCALENDAR
