BEGIN:VCALENDAR
VERSION:2.0
PRODID:-//ActiveBury//Events//EN
CALSCALE:GREGORIAN
BEGIN:VEVENT
UID:event-4529@activebury.com
DTSTAMP:20260424T224206Z
SUMMARY:Story Time (2-5 yrs)
DTSTART:20260429T103000
DTEND:20260429T111500
LOCATION:Centreville Meeting Room
DESCRIPTION:Ages: 2-5 with caregiver Join us for Story Time! Read\, sing\, and play at the library during story time while developing early literacy skills. Story time is followed by an early...\nMore info: https://calendar.qaclibrary.org/event/15863733?hs=a\nActiveBury: https://www.activebury.com/events/4529
URL:https://www.activebury.com/events/4529
END:VEVENT
END:VCALENDAR
