BEGIN:VCALENDAR
VERSION:2.0
PRODID:-//ActiveBury//Events//EN
CALSCALE:GREGORIAN
BEGIN:VEVENT
UID:event-4527@activebury.com
DTSTAMP:20260424T224339Z
SUMMARY:Bouncing Babies (0-18 mo)
DTSTART:20260429T093000
DTEND:20260429T101500
LOCATION:Kent Island Meeting Room 128
DESCRIPTION:Ages: 0-18 mo\, with caregiver. Join us for a story time with rhymes\, songs\, bounces\, and a story followed by a social playtime. Siblings are welcome at any story time.\nMore info: https://calendar.qaclibrary.org/event/16138566?hs=a\nActiveBury: https://www.activebury.com/events/4527
URL:https://www.activebury.com/events/4527
END:VEVENT
END:VCALENDAR
