BEGIN:VCALENDAR
VERSION:2.0
PRODID:-//ActiveBury//Events//EN
CALSCALE:GREGORIAN
BEGIN:VEVENT
UID:event-4526@activebury.com
DTSTAMP:20260424T224335Z
SUMMARY:Toddler Story Time (18-36 mo)
DTSTART:20260428T103000
DTEND:20260428T111500
LOCATION:Kent Island Meeting Room 128
DESCRIPTION:Ages: 18-36 mo with caregiver Join us for Story Time! Read\, sing\, and play at the library during story time while developing early literacy skills. Story time is followed by an...\nMore info: https://calendar.qaclibrary.org/event/16138538?hs=a\nActiveBury: https://www.activebury.com/events/4526
URL:https://www.activebury.com/events/4526
END:VEVENT
END:VCALENDAR
