BEGIN:VCALENDAR
VERSION:2.0
PRODID:-//ActiveBury//Events//EN
CALSCALE:GREGORIAN
BEGIN:VEVENT
UID:event-4525@activebury.com
DTSTAMP:20260424T224337Z
SUMMARY:Mother Goose on the Loose (3-36 months)
DTSTART:20260428T103000
DTEND:20260428T110000
LOCATION:Centreville Meeting Room
DESCRIPTION:Ages: 3-36 months with caregiver Join us for a lapsit program and enjoy rhymes\, songs\, movement\, bells\, and a story!\nMore info: https://calendar.qaclibrary.org/event/15863719?hs=a\nActiveBury: https://www.activebury.com/events/4525
URL:https://www.activebury.com/events/4525
END:VEVENT
END:VCALENDAR
