BEGIN:VCALENDAR
VERSION:2.0
PRODID:-//ActiveBury//Events//EN
CALSCALE:GREGORIAN
BEGIN:VEVENT
UID:event-4524@activebury.com
DTSTAMP:20260424T224350Z
SUMMARY:Preschool Story Time (3-5 yrs)
DTSTART:20260428T093000
DTEND:20260428T101500
LOCATION:Kent Island Meeting Room 128
DESCRIPTION:Ages: 3-5 with caregiver Join us for Story Time! Read\, sing\, and play at the library during story time while developing early literacy skills\, followed by an early literacy...\nMore info: https://calendar.qaclibrary.org/event/16138449?hs=a\nActiveBury: https://www.activebury.com/events/4524
URL:https://www.activebury.com/events/4524
END:VEVENT
END:VCALENDAR
