BEGIN:VCALENDAR
VERSION:2.0
PRODID:-//ActiveBury//Events//EN
CALSCALE:GREGORIAN
BEGIN:VEVENT
UID:event-4523@activebury.com
DTSTAMP:20260424T224329Z
SUMMARY:Mother Goose on the Loose (3-36 months)
DTSTART:20260428T093000
DTEND:20260428T100000
LOCATION:Centreville Meeting Room
DESCRIPTION:Ages: 3-36 months with caregiver Join us for a lapsit program and enjoy rhymes\, songs\, movement\, bells\, and a story!\nMore info: https://calendar.qaclibrary.org/event/15863704?hs=a\nActiveBury: https://www.activebury.com/events/4523
URL:https://www.activebury.com/events/4523
END:VEVENT
END:VCALENDAR
