BEGIN:VCALENDAR
VERSION:2.0
PRODID:-//ActiveBury//Events//EN
CALSCALE:GREGORIAN
BEGIN:VEVENT
UID:event-4522@activebury.com
DTSTAMP:20260424T224805Z
SUMMARY:Homeschool Art: Handmade Books (5-12 yrs)
DTSTART:20260427T110000
DTEND:20260427T114500
LOCATION:Centreville Meeting Room
DESCRIPTION:Ages: 5-12 Make your own handmade book and learn a few different techniques to bind them!\nMore info: https://calendar.qaclibrary.org/event/16166426?hs=a\nActiveBury: https://www.activebury.com/events/4522
URL:https://www.activebury.com/events/4522
END:VEVENT
END:VCALENDAR
