BEGIN:VCALENDAR
VERSION:2.0
PRODID:-//ActiveBury//Events//EN
CALSCALE:GREGORIAN
BEGIN:VEVENT
UID:event-4521@activebury.com
DTSTAMP:20260424T224100Z
SUMMARY:Flower Pots (3-5yrs)
DTSTART:20260425T143000
DTEND:20260425T153000
LOCATION:Centreville Meeting Room
DESCRIPTION:Ages 3-5 Decorate a plastic flower pot for spring using crayons\, markers and spring themed stickers. All abilities welcome!\nMore info: https://calendar.qaclibrary.org/event/16210088?hs=a\nActiveBury: https://www.activebury.com/events/4521
URL:https://www.activebury.com/events/4521
END:VEVENT
END:VCALENDAR
