BEGIN:VCALENDAR
VERSION:2.0
PRODID:-//ActiveBury//Events//EN
CALSCALE:GREGORIAN
BEGIN:VEVENT
UID:event-4518@activebury.com
DTSTAMP:20260424T224225Z
SUMMARY:Clothing Swap (All Ages)
DTSTART:20260425T090000
DTEND:20260425T120000
LOCATION:Categories: Kent Island Branch Event Organizer No Profile image Cait Byrnes Powered by Springshare . All rights reserved. Report a tech support issue. Login to LibApps català Cymraeg English español f
DESCRIPTION:All Ages Join us for a free community Clothing Swap hosted by the organizers of the Queenstown Clothing Swap! Bring clean\, gently used clothing or shoes you’re ready to part...\nMore info: https://calendar.qaclibrary.org/event/16049900?hs=a\nActiveBury: https://www.activebury.com/events/4518
URL:https://www.activebury.com/events/4518
END:VEVENT
END:VCALENDAR
