BEGIN:VCALENDAR
VERSION:2.0
PRODID:-//ActiveBury//Events//EN
CALSCALE:GREGORIAN
BEGIN:VEVENT
UID:event-4517@activebury.com
DTSTAMP:20260424T224332Z
SUMMARY:Mini Librarian (3-8 yrs)
DTSTART:20260424T103000
DTEND:20260424T111500
LOCATION:Centreville Meeting Room
DESCRIPTION:For ages 3-8 years. Future librarian? Get a behind the scenes tour of the branch\, attend or present* a mini Stuffed Animal Story Time\, and use the library scanner to 'doot' some...\nMore info: https://calendar.qaclibrary.org/event/15879109?hs=a\nActiveBury: https://www.activebury.com/events/4517
URL:https://www.activebury.com/events/4517
END:VEVENT
END:VCALENDAR
