BEGIN:VCALENDAR
VERSION:2.0
PRODID:-//ActiveBury//Events//EN
CALSCALE:GREGORIAN
BEGIN:VEVENT
UID:event-44@activebury.com
DTSTAMP:20260425T133249Z
SUMMARY:Delmar Elementary
DTSTART:20260113T083000
DTEND:20260113T141500
LOCATION:Bookmobile
DESCRIPTION:This event is in the "Everyone" group 8:30am–2:15pm Everyone Bookmobile Offsite Event This event is in the "Everyone" group Jan 13 2026 Tue Delmar Elementary 8:30am–2:15pm Bookmobile Please note you are looking at an event that has already happened. Bookmobile Everyone 811 S 2nd St\, Delmar\nMore info: https://www.wicomicolibrary.org/event/delmar-elementary-20112\nActiveBury: https://www.activebury.com/events/44
URL:https://www.activebury.com/events/44
END:VEVENT
END:VCALENDAR
