BEGIN:VCALENDAR
VERSION:2.0
PRODID:-//ActiveBury//Events//EN
CALSCALE:GREGORIAN
BEGIN:VEVENT
UID:event-43@activebury.com
DTSTAMP:20260425T143502Z
SUMMARY:National Treasures: Virtual Tour
DTSTART:20260112T174500
DTEND:20260112T184500
LOCATION:Centre Branch
DESCRIPTION:This event is in the "Everyone" group 5:45pm–6:45pm Everyone Centre Branch Closed Registration Available This event is in the "Everyone" group Jan 12 2026 Mon National Treasures: Virtual Tour 5:45pm–6:45pm Centre Branch Closed Please note you are looking at an event that has already happened. Centre Branch The Space at Centre Everyone Class or Workshop Registration Available Weather have you not wanting to travel across the bridge? No problem! Join us in our virtual tour of a Smithsonian Museum from the comfort of the Centre Branch Library! This month tour the National Postal Museum with us!\nMore info: https://www.wicomicolibrary.org/event/national-treasures-virtual-tour-21636\nActiveBury: https://www.activebury.com/events/43
URL:https://www.activebury.com/events/43
END:VEVENT
END:VCALENDAR
