BEGIN:VCALENDAR
VERSION:2.0
PRODID:-//ActiveBury//Events//EN
CALSCALE:GREGORIAN
BEGIN:VEVENT
UID:event-41@activebury.com
DTSTAMP:20260425T133743Z
SUMMARY:Village @ Tony Tank
DTSTART:20260112T120000
DTEND:20260112T130000
LOCATION:Bookmobile
DESCRIPTION:This event is in the "Everyone" group 12:00pm–1:00pm Everyone Bookmobile Offsite Event This event is in the "Everyone" group Jan 12 2026 Mon Village @ Tony Tank 12:00pm–1:00pm Bookmobile Please note you are looking at an event that has already happened. Bookmobile Everyone Village Oak Rd.\nMore info: https://www.wicomicolibrary.org/event/village-tony-tank-20295\nActiveBury: https://www.activebury.com/events/41
URL:https://www.activebury.com/events/41
END:VEVENT
END:VCALENDAR
