BEGIN:VCALENDAR
VERSION:2.0
PRODID:-//ActiveBury//Events//EN
CALSCALE:GREGORIAN
BEGIN:VEVENT
UID:event-4@activebury.com
DTSTAMP:20260425T133252Z
SUMMARY:Celebrate MLK Jr.
DTSTART:20260117T110000
DTEND:20260117T160000
DESCRIPTION:More info: https://dnr.maryland.gov/publiclands/pages/eastern/tubman.aspx\nActiveBury: https://www.activebury.com/events/4
URL:https://www.activebury.com/events/4
END:VEVENT
END:VCALENDAR
