BEGIN:VCALENDAR
VERSION:2.0
PRODID:-//ActiveBury//Events//EN
CALSCALE:GREGORIAN
BEGIN:VEVENT
UID:event-399@activebury.com
DTSTAMP:20260425T133311Z
SUMMARY:Walk with a Doc - June
DTSTART;VALUE=DATE:20260606
DTEND;VALUE=DATE:20260607
LOCATION:Downtown Salisbury
DESCRIPTION:Join TidalHealth for Walk with a Doc\, a free\, family-friendly walking program in Salisbury. Meet local health experts\, learn about health topics\, and enjoy walking with your community every first Saturday of the month.\nMore info: https://walkwithadoc.org/join-a-walk/locations/salisbury-maryland/\nActiveBury: https://www.activebury.com/events/399
URL:https://www.activebury.com/events/399
END:VEVENT
END:VCALENDAR
