BEGIN:VCALENDAR
VERSION:2.0
PRODID:-//ActiveBury//Events//EN
CALSCALE:GREGORIAN
BEGIN:VEVENT
UID:event-398@activebury.com
DTSTAMP:20260425T133313Z
SUMMARY:Walk with a Doc - May
DTSTART;VALUE=DATE:20260502
DTEND;VALUE=DATE:20260503
LOCATION:Downtown Salisbury
DESCRIPTION:Join TidalHealth for a free\, family-friendly walking program designed to improve health and foster community connections. Walks include a health discussion led by local providers.\nMore info: https://walkwithadoc.org/join-a-walk/locations/salisbury-maryland/\nActiveBury: https://www.activebury.com/events/398
URL:https://www.activebury.com/events/398
END:VEVENT
END:VCALENDAR
