BEGIN:VCALENDAR
VERSION:2.0
PRODID:-//ActiveBury//Events//EN
CALSCALE:GREGORIAN
BEGIN:VEVENT
UID:event-396@activebury.com
DTSTAMP:20260425T133744Z
SUMMARY:Chefs for Habitat Golden Age of Hollywood
DTSTART;VALUE=DATE:20260313
DTEND;VALUE=DATE:20260314
LOCATION:Wicomico County
DESCRIPTION:More info: https://chefsforhabitat.org/\nActiveBury: https://www.activebury.com/events/396
URL:https://www.activebury.com/events/396
END:VEVENT
END:VCALENDAR
