BEGIN:VCALENDAR
VERSION:2.0
PRODID:-//ActiveBury//Events//EN
CALSCALE:GREGORIAN
BEGIN:VEVENT
UID:event-395@activebury.com
DTSTAMP:20260425T133422Z
SUMMARY:Harlem Globetrotters
DTSTART;VALUE=DATE:20260307
DTEND;VALUE=DATE:20260308
LOCATION:Wicomico County
DESCRIPTION:More info: https://www.wicomicociviccenter.org/schedule-of-events/the-harlem-globetrotters-100-year-tour\nActiveBury: https://www.activebury.com/events/395
URL:https://www.activebury.com/events/395
END:VEVENT
END:VCALENDAR
