BEGIN:VCALENDAR
VERSION:2.0
PRODID:-//ActiveBury//Events//EN
CALSCALE:GREGORIAN
BEGIN:VEVENT
UID:event-394@activebury.com
DTSTAMP:20260425T133313Z
SUMMARY:Gazillion Bubble Show
DTSTART;VALUE=DATE:20260305
DTEND;VALUE=DATE:20260306
LOCATION:Wicomico County
DESCRIPTION:More info: https://www.wicomicociviccenter.org/schedule-of-events/gazillion-bubble-show\nActiveBury: https://www.activebury.com/events/394
URL:https://www.activebury.com/events/394
END:VEVENT
END:VCALENDAR
