BEGIN:VCALENDAR
VERSION:2.0
PRODID:-//ActiveBury//Events//EN
CALSCALE:GREGORIAN
BEGIN:VEVENT
UID:event-36@activebury.com
DTSTAMP:20260425T133740Z
SUMMARY:Winter Wellness Wonderland: Vision Board Making || The Salisbury Salon Creative Circle
DTSTART:20260110T140000
DTEND:20260110T160000
LOCATION:Centre Branch
DESCRIPTION:This event is in the "Ages 18+" group 2:00pm–4:00pm Ages 18+ Centre Branch Closed Registration Available This event is in the "Ages 18+" group Jan 10 2026 Sat Winter Wellness Wonderland: Vision Board Making || The Salisbury Salon Creative Circle 2:00pm–4:00pm Centre Branch Closed Please note you are looking at an event that has already happened. Centre Branch The Space at Centre Ages 18+ Arts and Crafts \, Class or Workshop \, Other Registration Available Welcome in the new year on a good note by making a vision board!\nMore info: https://www.wicomicolibrary.org/event/winter-wellness-wonderland-salisbury-salon-creative-circle-21438\nActiveBury: https://www.activebury.com/events/36
URL:https://www.activebury.com/events/36
END:VEVENT
END:VCALENDAR
