BEGIN:VCALENDAR
VERSION:2.0
PRODID:-//ActiveBury//Events//EN
CALSCALE:GREGORIAN
BEGIN:VEVENT
UID:event-35@activebury.com
DTSTAMP:20260425T133248Z
SUMMARY:Vision Board 2026
DTSTART:20260110T130000
DTEND:20260110T150000
LOCATION:Paul S. Sarbanes Branch
DESCRIPTION:This event is in the "Ages 18+" group 1:00pm–3:00pm Ages 18+ Paul S. Sarbanes Branch Closed Registration Available This event is in the "Ages 18+" group Jan 10 2026 Sat Vision Board 2026 1:00pm–3:00pm Paul S. Sarbanes Branch Closed Please note you are looking at an event that has already happened. Paul S. Sarbanes Branch STEAM Studio Ages 18+ Arts and Crafts \, Special Events Registration Available Kick Off 2026 with Purpose! Join Us for a Vision Board Workshop\nMore info: https://www.wicomicolibrary.org/event/digital-vision-board-21661\nActiveBury: https://www.activebury.com/events/35
URL:https://www.activebury.com/events/35
END:VEVENT
END:VCALENDAR
