BEGIN:VCALENDAR
VERSION:2.0
PRODID:-//ActiveBury//Events//EN
CALSCALE:GREGORIAN
BEGIN:VEVENT
UID:event-335@activebury.com
DTSTAMP:20260425T134256Z
SUMMARY:Storytime and Craft @ Cope Bennett Park
DTSTART:20260408T100000
DTEND:20260408T111500
LOCATION:Mobile Learning Lab
DESCRIPTION:This event is in the "Ages 0-5" group This event is in the "Ages 6-11" group 10:00am–11:15am Ages 0-5\, Ages 6-11 Mobile Learning Lab Offsite Event This event is in the "Ages 0-5" group This event is in the "Ages 6-11" group Apr 8 2026 Wed Storytime and Craft @ Cope Bennett Park 10:00am–11:15am Mobile Learning Lab Please note you are looking at an event that has already happened. Mobile Learning Lab Ages 0-5 \, Ages 6-11 Arts and Crafts \, Storywalk at the Parks \, Storytime Join Mobile Services staff for stories\, songs\, and a craft. We will be hosting our story time and craft at Cope Bennett Park. While you are there check out our story walk!\nMore info: https://www.wicomicolibrary.org/event/copy-storytime-and-craft-humane-society-22667\nActiveBury: https://www.activebury.com/events/335
URL:https://www.activebury.com/events/335
END:VEVENT
END:VCALENDAR
