BEGIN:VCALENDAR
VERSION:2.0
PRODID:-//ActiveBury//Events//EN
CALSCALE:GREGORIAN
BEGIN:VEVENT
UID:event-33@activebury.com
DTSTAMP:20260425T182213Z
SUMMARY:Paint Day
DTSTART:20260110T103000
DTEND:20260110T123000
LOCATION:Paul S. Sarbanes Branch
DESCRIPTION:This event is in the "Ages 12-18" group This event is in the "Ages 18+" group 10:30am–12:30pm Ages 12-18\, Ages 18+ Paul S. Sarbanes Branch Closed Registration Available This event is in the "Ages 12-18" group This event is in the "Ages 18+" group Jan 10 2026 Sat Paint Day 10:30am–12:30pm Paul S. Sarbanes Branch Closed Please note you are looking at an event that has already happened. Paul S. Sarbanes Branch Room 8 Ages 12-18 \, Ages 18+ Arts and Crafts \, Class or Workshop Registration Available Join Mobile Services staff at our Sarbanes Branch for a winter landscape painting day. Whether your an experienced artist or just picking up a brush\, take some time to express yourself through art.\nMore info: https://www.wicomicolibrary.org/event/paint-day-20727\nActiveBury: https://www.activebury.com/events/33
URL:https://www.activebury.com/events/33
END:VEVENT
END:VCALENDAR
